BEGIN:VCALENDAR
VERSION:2.0
PRODID:-//hacksw/handcal//NONSGML v1.0//EN
BEGIN:VEVENT
UID:ad3ab45715b33afb92c8a63a10e3f4d1
DTSTAMP:20260423T180947Z

DTSTART:20221008T130000
DTEND:20221024T180000
SUMMARY:Inside Flow TTC Level 1 Online - 3weekends
DESCRIPTION:Let's join our TTC online level 1 for 30 TRC via Zoom and  learn how to create a simple Inside Flow sequence and how to teach Inside Flow properly on beat.\nYou will learn in this training total 8 Flows which 3 flows from Martasya Yoga and 5 Flows from the Trainees approved by Martasya Yoga. \n 

X-ALT-DESC;FMTTYPE=text/html:<!DOCTYPE HTML PUBLIC "-//W3C//DTD HTML 3.2//EN">\n<HTML>\n<HEAD>\n<META NAME="Generator" CONTENT="MS Exchange Server version 08.00.0681.000">\n<TITLE></TITLE>\n</HEAD>\n<BODY>\n<!-- Converted from text/rtf format -->\n\n<p>Let's join our TTC online level 1 for 30 TRC via Zoom and  learn how to create a simple Inside Flow sequence and how to teach Inside Flow properly on beat.</p><br /><p>You will learn in this training total 8 Flows which 3 flows from Martasya Yoga and 5 Flows from the Trainees approved by Martasya Yoga. </p><br /><p> </p>\n\n</BODY>\n</HTML>

LOCATION:Martasya Yoga Shala  BOGOR Jawa Barat (Djawa Barat) 16152 Indonesia
END:VEVENT

END:VCALENDAR
