BEGIN:VCALENDAR
VERSION:2.0
PRODID:-//hacksw/handcal//NONSGML v1.0//EN
BEGIN:VEVENT
UID:43a2a99c907609a67fb75ffc50feef0a
DTSTAMP:20260426T035534Z

DTSTART:20221006T190000
DTEND:20221006T201500
SUMMARY:Weekly Inside Flow with trenditskaya.tatiana (Russian) - 2022-10-06
DESCRIPTION:

X-ALT-DESC;FMTTYPE=text/html:<!DOCTYPE HTML PUBLIC "-//W3C//DTD HTML 3.2//EN">\n<HTML>\n<HEAD>\n<META NAME="Generator" CONTENT="MS Exchange Server version 08.00.0681.000">\n<TITLE></TITLE>\n</HEAD>\n<BODY>\n<!-- Converted from text/rtf format -->\n\n\n\n</BODY>\n</HTML>

LOCATION:Pervomayskaya 119 Mostovskoy Krasnoyarskiy Kray 352570 Russia
END:VEVENT

END:VCALENDAR
