BEGIN:VCALENDAR
VERSION:2.0
PRODID:-//hacksw/handcal//NONSGML v1.0//EN
BEGIN:VEVENT
UID:b34fbf8e879c341e821465d5960d156f
DTSTAMP:20260422T030413Z

DTSTART:20230201T063000
DTEND:20230205T173000
SUMMARY:Inside Flow Advanced Teacher Training with Young Ho Kim Jakarta 2023
DESCRIPTION:First time after 3 years Young Ho will come back to Jakarta for 40 hours Advanced Inside Flow Teacher Training. \nRequirement to attend this training minimum have been taken 1 Teaching Exam before either with YOUNG HO KIM, TINT YOGA , MARTASYA YOGA , SENIOR TEACHERS or PROTEACHERS \nLet's come and flow together with us in Jakarta.\nRegistration link on web \nwww.martasyayoga.com/inside-flow 

X-ALT-DESC;FMTTYPE=text/html:<!DOCTYPE HTML PUBLIC "-//W3C//DTD HTML 3.2//EN">\n<HTML>\n<HEAD>\n<META NAME="Generator" CONTENT="MS Exchange Server version 08.00.0681.000">\n<TITLE></TITLE>\n</HEAD>\n<BODY>\n<!-- Converted from text/rtf format -->\n\n<p>First time after 3 years Young Ho will come back to Jakarta for 40 hours Advanced Inside Flow Teacher Training. </p><br /><p>Requirement to attend this training minimum have been taken 1 Teaching Exam before either with YOUNG HO KIM, TINT YOGA , MARTASYA YOGA , SENIOR TEACHERS or PROTEACHERS </p><br /><p>Let's come and flow together with us in Jakarta.</p><br /><p>Registration link on web </p><br /><p>www.martasyayoga.com/inside-flow </p>\n\n</BODY>\n</HTML>

LOCATION:Gripa Studio  Pasar Minggu  Jakarta  Jakarta Raya (Djakarta Raya) Indonesia
END:VEVENT

END:VCALENDAR
