BEGIN:VCALENDAR
VERSION:2.0
PRODID:-//hacksw/handcal//NONSGML v1.0//EN
BEGIN:VEVENT
UID:5413d654200c83fc0d686e2ea81b8293
DTSTAMP:20260426T012307Z

DTSTART:20230401T000000
DTEND:20230507T235959
SUMMARY:Online Inside Flow Grundausbildung bei TINT (30 TRC)
DESCRIPTION:\n\n\n\nGehe deinen nächsten Schritt und mache deine Inside Flow Ausbildung online mit TINT Yoga – egal, wo du bist! \nWann kannst Du Dich anmelden? \n&gt;&gt; Jetzt und hier! \n \nWann geht es los? \n&gt;&gt; Die nächste Runde ist für den April 2023 mit einer Dauer von circa 5 Wochen geplant. Die Daten für die interaktiven Live Sessions via Zoom werden bekannt gegeben, sobald sich der Zeitpunkt der Ausbildung nähert. Es wird jedenfalls immer ein Replay geben, sodass es nicht schlimm ist, wenn Du nicht live dabei sein kannst. Bis zum Ende der Ausbildung ist auch vorgesehen, dass Du Deine Prüfung ablegst. \n \nWer unterrichtet Dich? \n&gt;&gt; Dich werden in den On-Demand-Videos und in den Live-Terminen ausschließlich unsere Top Inside Flow Teacher unterrichten: Young Ho Kim (Gründer von Inside Flow und TINT), Ami Norton, Alexey Gaevskij und Hie Kim. Diese verteilen sich auch auf die Live Sessions.\n \nWie viele Flows wirst Du in der Ausbildung erlernen? \n&gt;&gt; Innerhalb von mehr als 60 Lektionen (klicke hier für einen Eindruck des Kursinhalts) lernst Du nicht nur die komplette Inside Flow-Theorie, sondern auch 5 atemberaubende Inside Flows unserer Teacher. Wenn Du zudem die 3-monatige kostenfreie TINT-Mitgliedschaft voll auskostet, beherrschst Du anschließend mehr als 40 weitere Inside Flows. \n \nHast Du auch nach der Ausbildung noch Zugriff auf die Ausbildungsvideos? \n&gt;&gt; Natürlich, Du hast solange Zugriff auf die Ausbildungsinhalte, wie es Dich (und uns) auf dieser Erde gibt. Mit der Ausbildung bekommst du auch für 3 Monate die TINT Mitgliedschaft geschenkt. Diese gilt nur für die 3 Monate. \n \nGibt es begleitendes Kursmaterial? \n&gt;&gt; Selbstverständlich haben wir für Dich ein Workbook zusammengestellt, in dem Du all Deine Notizen, Gedanken und Fragen festhalten kannst. \n \nWer beantwortet Dir Deine Fragen außerhalb der Live-Termine? \n&gt;&gt; Unser Motto ist hier: Meist lernt es sich besser gemeinsam. Da Du Dich gleich zu Anfang Deiner Ausbildung zu unserer Community-Plattform anmeldest, stehen Dir sowohl die anderen Auszubildenden als auch das Team von TINT zum Austausch zur Verfügung. Schreibe einfach in den Activity Feed der Plattform oder den Gruppenchat – und wir sind für Dich da.\n \nErhältst Du für die Ausbildung ein Zertifikat? \n&gt;&gt; Deine Abschlussprüfung setzt sich aus einem Online-Multiple-Choice-Test zur Theorie und einem Praxisvideo von Dir zusammen. Bei Bestehen erhältst Du ein Zertifikat und bist Inside Flow-Lehrer:in. \n\n\n\n\n 

X-ALT-DESC;FMTTYPE=text/html:<!DOCTYPE HTML PUBLIC "-//W3C//DTD HTML 3.2//EN">\n<HTML>\n<HEAD>\n<META NAME="Generator" CONTENT="MS Exchange Server version 08.00.0681.000">\n<TITLE></TITLE>\n</HEAD>\n<BODY>\n<!-- Converted from text/rtf format -->\n\n<div class="et_pb_row et_pb_row_11_tb_header et_pb_equal_columns"><br /><div class="et_pb_column et_pb_column_4_4 et_pb_column_21_tb_header  et_pb_css_mix_blend_mode_passthrough et-last-child"><br /><div class="et_pb_module et_pb_text et_pb_text_22_tb_header  et_pb_text_align_center et_pb_bg_layout_light"><br /><div class="et_pb_text_inner"><br /><p>Gehe deinen nächsten Schritt und mache deine Inside Flow Ausbildung online mit TINT Yoga – egal, wo du bist! </p><br /><p><b>Wann kannst Du Dich anmelden? </b></p><br /><p>&gt;&gt; <a title="Jetzt und hier" href="https://tintyoga.com/academy/inside-flow-grundausbildung/" target="_blank" rel="noopener noreferrer">Jetzt und hier</a>! </p><br /><p> </p><br /><p><b>Wann geht es los? </b></p><br /><p>&gt;&gt; Die nächste Runde ist für den April 2023 mit einer Dauer von circa 5 Wochen geplant. Die Daten für die interaktiven Live Sessions via Zoom werden bekannt gegeben, sobald sich der Zeitpunkt der Ausbildung nähert. Es wird jedenfalls immer ein Replay geben, sodass es nicht schlimm ist, wenn Du nicht live dabei sein kannst. Bis zum Ende der Ausbildung ist auch vorgesehen, dass Du Deine Prüfung ablegst. </p><br /><p> </p><br /><p><b>Wer unterrichtet Dich? </b></p><br /><p>&gt;&gt; Dich werden in den On-Demand-Videos und in den Live-Terminen ausschließlich unsere Top Inside Flow Teacher unterrichten: Young Ho Kim (Gründer von Inside Flow und TINT), Ami Norton, Alexey Gaevskij und Hie Kim. Diese verteilen sich auch auf die Live Sessions.</p><br /><p> </p><br /><p><b>Wie viele Flows wirst Du in der Ausbildung erlernen? </b></p><br /><p>&gt;&gt; Innerhalb von mehr als 60 Lektionen (klicke <a title="hier" href="https://tintyoga.com/academy/inside-flow-grundausbildung/" target="_blank" rel="noopener noreferrer">hier</a> für einen Eindruck des Kursinhalts) lernst Du nicht nur die komplette Inside Flow-Theorie, sondern auch 5 atemberaubende Inside Flows unserer Teacher. Wenn Du zudem die 3-monatige kostenfreie TINT-Mitgliedschaft voll auskostet, beherrschst Du anschließend mehr als 40 weitere Inside Flows. </p><br /><p> </p><br /><p><b>Hast Du auch nach der Ausbildung noch Zugriff auf die Ausbildungsvideos? </b></p><br /><p>&gt;&gt; Natürlich, Du hast solange Zugriff auf die Ausbildungsinhalte, wie es Dich (und uns) auf dieser Erde gibt. Mit der Ausbildung bekommst du auch für 3 Monate die TINT Mitgliedschaft geschenkt. Diese gilt nur für die 3 Monate. </p><br /><p> </p><br /><p><b>Gibt es begleitendes Kursmaterial? </b></p><br /><p>&gt;&gt; Selbstverständlich haben wir für Dich ein Workbook zusammengestellt, in dem Du all Deine Notizen, Gedanken und Fragen festhalten kannst. </p><br /><p> </p><br /><p><b>Wer beantwortet Dir Deine Fragen außerhalb der Live-Termine? </b></p><br /><p>&gt;&gt; Unser Motto ist hier: Meist lernt es sich besser gemeinsam. Da Du Dich gleich zu Anfang Deiner Ausbildung zu unserer Community-Plattform anmeldest, stehen Dir sowohl die anderen Auszubildenden als auch das Team von TINT zum Austausch zur Verfügung. Schreibe einfach in den Activity Feed der Plattform oder den Gruppenchat – und wir sind für Dich da.</p><br /><p> </p><br /><p><b>Erhältst Du für die Ausbildung ein Zertifikat? </b></p><br /><p>&gt;&gt; Deine Abschlussprüfung setzt sich aus einem Online-Multiple-Choice-Test zur Theorie und einem Praxisvideo von Dir zusammen. Bei Bestehen erhältst Du ein Zertifikat und bist Inside Flow-Lehrer:in. </p><br /></div><br /></div><br /></div><br /></div><br /><div class="et_pb_row et_pb_row_12_tb_header et_pb_equal_columns"> </div>\n\n</BODY>\n</HTML>

LOCATION:Germany
END:VEVENT

END:VCALENDAR
