BEGIN:VCALENDAR
VERSION:2.0
PRODID:-//hacksw/handcal//NONSGML v1.0//EN
BEGIN:VEVENT
UID:84a5b0e7c9a48929dcbb87e33100daa0
DTSTAMP:20260420T101252Z

DTSTART:20230527T094500
DTEND:20230527T110000
SUMMARY:Monthly Inside Flow & Inside Yoga Class in Zurich with Pepe
DESCRIPTION:Get ready for my new Flow and Alignment Class in Zurich, monthly on saturdays:\nJanuary 21st\nFebruary 4th\nMarch 4th\nApril 8th\nMay 27th\nJune 24th\nJuly 15th\n \nAlso see Instagram (pepe_yoga)\nClass booking via https://yolinga.com/teachers/peter-eberl\nFor further information email to info@pepeyoga.com\n \nVery welcome, looking forward to 2023!\n \nAll best, yours\n \nPepe.

X-ALT-DESC;FMTTYPE=text/html:<!DOCTYPE HTML PUBLIC "-//W3C//DTD HTML 3.2//EN">\n<HTML>\n<HEAD>\n<META NAME="Generator" CONTENT="MS Exchange Server version 08.00.0681.000">\n<TITLE></TITLE>\n</HEAD>\n<BODY>\n<!-- Converted from text/rtf format -->\n\n<p>Get ready for my new <strong>Flow</strong> and <strong>Alignment</strong> Class in <strong>Zurich</strong>, monthly on saturdays:</p><br /><p>January 21st</p><br /><p>February 4th</p><br /><p>March 4th</p><br /><p>April 8th</p><br /><p>May 27th</p><br /><p>June 24th</p><br /><p>July 15th</p><br /><p> </p><br /><p>Also see Instagram (pepe_yoga)</p><br /><p>Class booking via <a href="https://yolinga.com/teachers/peter-eberl">https://yolinga.com/teachers/peter-eberl</a></p><br /><p>For further information email to info@pepeyoga.com</p><br /><p> </p><br /><p>Very welcome, looking forward to 2023!</p><br /><p> </p><br /><p>All best, yours</p><br /><p> </p><br /><p>Pepe.</p>\n\n</BODY>\n</HTML>

LOCATION:Schmelzbergstr. 50 Zurich Zurich 8044 Switzerland
END:VEVENT

END:VCALENDAR
