BEGIN:VCALENDAR
VERSION:2.0
PRODID:-//hacksw/handcal//NONSGML v1.0//EN
BEGIN:VEVENT
UID:d6aac08a821ea275a05b82a7b177bf76
DTSTAMP:20260426T024750Z

DTSTART:20230408T140000
DTEND:20230408T153000
SUMMARY:Intro to Inside Flow Masterclass with Erin Clair (English)
DESCRIPTION:Inside Flow unites movement, breath, and body, with music as the driving force. This masterclass is perfect for those new to Inside Flow as well as for those who are looking to deepen their knowledge of this dynamic and beautiful style of yoga.

X-ALT-DESC;FMTTYPE=text/html:<!DOCTYPE HTML PUBLIC "-//W3C//DTD HTML 3.2//EN">\n<HTML>\n<HEAD>\n<META NAME="Generator" CONTENT="MS Exchange Server version 08.00.0681.000">\n<TITLE></TITLE>\n</HEAD>\n<BODY>\n<!-- Converted from text/rtf format -->\n\n<p>Inside Flow unites movement, breath, and body, with music as the driving force. This masterclass is perfect for those new to Inside Flow as well as for those who are looking to deepen their knowledge of this dynamic and beautiful style of yoga.</p>\n\n</BODY>\n</HTML>

LOCATION:301 Reasoner Lane Russellville Arkansas 72801 United States
END:VEVENT

END:VCALENDAR
