BEGIN:VCALENDAR
VERSION:2.0
PRODID:-//hacksw/handcal//NONSGML v1.0//EN
BEGIN:VEVENT
UID:f3c6a2af087031f5031bf8999880bc2f
DTSTAMP:20260421T151045Z

DTSTART:20230710T000000
DTEND:20230716T235959
SUMMARY:50h Inside Flow Teacher Training in Poznan, Poland with Hie Kim
DESCRIPTION:Info and registration: https://namasteyoga.pl/wydarzenia/50h-inside-flow-teacher-training-hie-kim-2023/

X-ALT-DESC;FMTTYPE=text/html:<!DOCTYPE HTML PUBLIC "-//W3C//DTD HTML 3.2//EN">\n<HTML>\n<HEAD>\n<META NAME="Generator" CONTENT="MS Exchange Server version 08.00.0681.000">\n<TITLE></TITLE>\n</HEAD>\n<BODY>\n<!-- Converted from text/rtf format -->\n\n<p>Info and registration: <a href="https://namasteyoga.pl/wydarzenia/50h-inside-flow-teacher-training-hie-kim-2023/">https://namasteyoga.pl/wydarzenia/50h-inside-flow-teacher-training-hie-kim-2023/</a></p>\n\n</BODY>\n</HTML>

LOCATION:Poznán Poland
END:VEVENT

END:VCALENDAR
