BEGIN:VCALENDAR
VERSION:2.0
PRODID:-//hacksw/handcal//NONSGML v1.0//EN
BEGIN:VEVENT
UID:afb4ed0b567268d4ed5145c3f4bd3b6f
DTSTAMP:20260422T042513Z

DTSTART:20210515T160000
DTEND:20210515T190000
SUMMARY:3h Inside Flow joint master class 
DESCRIPTION:Совместный мастер-класс с Ириной Масловой @ira.mirage\n \n1 час 30 минут проводит Ирина,\n \n1 час 30 минут провожу я -Татьяна. За МК разучим 2 красивых флоу. Проведем розыгрыш подарков. В конце МК вручим сертификаты об участии

X-ALT-DESC;FMTTYPE=text/html:<!DOCTYPE HTML PUBLIC "-//W3C//DTD HTML 3.2//EN">\n<HTML>\n<HEAD>\n<META NAME="Generator" CONTENT="MS Exchange Server version 08.00.0681.000">\n<TITLE></TITLE>\n</HEAD>\n<BODY>\n<!-- Converted from text/rtf format -->\n\n<p>Совместный мастер-класс с Ириной Масловой @ira.mirage</p><br /><p> </p><br /><p>1 час 30 минут проводит Ирина,</p><br /><p> </p><br /><p>1 час 30 минут провожу я -Татьяна. За МК разучим 2 красивых флоу. Проведем розыгрыш подарков. В конце МК вручим сертификаты об участии</p>\n\n</BODY>\n</HTML>

LOCATION:Старопетровский проезд 1 стр. 2, ТРЦ Baby Store, 3-й этаж Старопетровский проезд 1 стр. 2, ТРЦ Baby Store, 3-й этаж Москва Moskva Russia
END:VEVENT

END:VCALENDAR
