BEGIN:VCALENDAR
VERSION:2.0
PRODID:-//hacksw/handcal//NONSGML v1.0//EN
BEGIN:VEVENT
UID:978c0b2efb3b11a32f04f029d4594284
DTSTAMP:20260426T024709Z

DTSTART:20231118T160000
DTEND:20231118T190000
SUMMARY:Inside Flow Workshop mit Inside Flow Gold Teacher Daniela Kizay
DESCRIPTION:Inside Flow in der Kulturkirche Alt St. Ulrich in Frechen bei Köln. Es erwartet dich ein Inside Flow Workshop in einzigartiger Location mit anschließender Klangreise zu Livemusik.\n 

X-ALT-DESC;FMTTYPE=text/html:<!DOCTYPE HTML PUBLIC "-//W3C//DTD HTML 3.2//EN">\n<HTML>\n<HEAD>\n<META NAME="Generator" CONTENT="MS Exchange Server version 08.00.0681.000">\n<TITLE></TITLE>\n</HEAD>\n<BODY>\n<!-- Converted from text/rtf format -->\n\n<p>Inside Flow in der Kulturkirche Alt St. Ulrich in Frechen bei Köln. Es erwartet dich ein Inside Flow Workshop in einzigartiger Location mit anschließender Klangreise zu Livemusik.</p><br /><p> </p>\n\n</BODY>\n</HTML>

LOCATION:Alt St. Ulrich Ulrichstr. 110 Frechen Nordrhein-Westfalen 50226 Germany
END:VEVENT

END:VCALENDAR
