BEGIN:VCALENDAR
VERSION:2.0
PRODID:-//hacksw/handcal//NONSGML v1.0//EN
BEGIN:VEVENT
UID:7c9a92abb457710d64324ec0ba132b5f
DTSTAMP:20260426T024901Z

DTSTART:20231218T183000
DTEND:20231218T200000
SUMMARY:Inside Flow Workshop Christmas-Special mit Inside Flow Gold Teacher Daniela Kizay
DESCRIPTION:Inside Flow Workshop in der wunderschönen Kulturkirche Alt St. Ulrich in Frechen bei Köln.

X-ALT-DESC;FMTTYPE=text/html:<!DOCTYPE HTML PUBLIC "-//W3C//DTD HTML 3.2//EN">\n<HTML>\n<HEAD>\n<META NAME="Generator" CONTENT="MS Exchange Server version 08.00.0681.000">\n<TITLE></TITLE>\n</HEAD>\n<BODY>\n<!-- Converted from text/rtf format -->\n\n<p>Inside Flow Workshop in der wunderschönen Kulturkirche Alt St. Ulrich in Frechen bei Köln.</p>\n\n</BODY>\n</HTML>

LOCATION:Alt St. Ulrich Ulrichstr. 110 Frechen Nordrhein-Westfalen 50226 Germany
END:VEVENT

END:VCALENDAR
