BEGIN:VCALENDAR
VERSION:2.0
PRODID:-//hacksw/handcal//NONSGML v1.0//EN
BEGIN:VEVENT
UID:67c7defd34e3861ddcf72abe24aca176
DTSTAMP:20260425T103019Z

DTSTART:20210126T160000
DTEND:20210131T210000
SUMMARY:インサイドフロー指導者養成講座-30時間トレーニング-
DESCRIPTION:●日時\n2021年1月26日から2021年1月31日（6日間）\n\n日本時間🇯🇵\n4:00pm - 9:00pm \n\nドイツ時間🇩🇪\n8:00am - 1:00pm\n\n●内容\n・INSIDE YOGAの内容に基づいたアライメント講座\n・指導者としての身につけるべきスキルについて\n\n●場所\nZOOMからの配信となります\n\n●指導者\nインサイドフロー創始者　YOUNG HO KIM\n（通訳　土屋えりこ）

X-ALT-DESC;FMTTYPE=text/html:<!DOCTYPE HTML PUBLIC "-//W3C//DTD HTML 3.2//EN">\n<HTML>\n<HEAD>\n<META NAME="Generator" CONTENT="MS Exchange Server version 08.00.0681.000">\n<TITLE></TITLE>\n</HEAD>\n<BODY>\n<!-- Converted from text/rtf format -->\n\n●日時<br />2021年1月26日から2021年1月31日（6日間）<br /><br />日本時間🇯🇵<br />4:00pm - 9:00pm <br /><br />ドイツ時間🇩🇪<br />8:00am - 1:00pm<br /><br />●内容<br />・INSIDE YOGAの内容に基づいたアライメント講座<br />・指導者としての身につけるべきスキルについて<br /><br />●場所<br />ZOOMからの配信となります<br /><br />●指導者<br />インサイドフロー創始者　YOUNG HO KIM<br />（通訳　土屋えりこ）\n\n</BODY>\n</HTML>

LOCATION:Japan
END:VEVENT

END:VCALENDAR
