BEGIN:VCALENDAR
VERSION:2.0
PRODID:-//hacksw/handcal//NONSGML v1.0//EN
BEGIN:VEVENT
UID:d2a228494d1767291af1146f55f2afae
DTSTAMP:20260419T165326Z

DTSTART:20240427T150000
DTEND:20240427T180000
SUMMARY:Workshop: @Yogijen BY Yoga On Roof 
DESCRIPTION:WHAT:\nUnlock Your Inside Flow Journey: Essential Fundamentals and Fluid Transitions with IF Junior teacher @YogiJen at Yoga on the Roof.\nWHEN:\nApril 27, 2024 | Saturday | 3:00 pm to 6:00 pm\nWHERE:\nYoga on the Roof, 20D Kim Tian Road\nIncludes:\n\n3:00pm to 6:00pm: 3 hours of flowing\n6:00pm to 8:00 pm: Afterparty with small bites, refreshments, and drinks to connect\n\nPlus:\nReceive a certificate of completion of 3TRC\nJoin us at Yoga on the Roof for an enriching experience where you’ll deepen your Inside Flow knowledge, connect with the community, and enjoy a transformative journey.\n \nRegister on: https://yogaonroof.com/index.php/events/unlock-your-inside-flow-journey/

X-ALT-DESC;FMTTYPE=text/html:<!DOCTYPE HTML PUBLIC "-//W3C//DTD HTML 3.2//EN">\n<HTML>\n<HEAD>\n<META NAME="Generator" CONTENT="MS Exchange Server version 08.00.0681.000">\n<TITLE></TITLE>\n</HEAD>\n<BODY>\n<!-- Converted from text/rtf format -->\n\n<h4><strong>WHAT:</strong></h4><br /><p>Unlock Your Inside Flow Journey: Essential Fundamentals and Fluid Transitions with IF Junior teacher @YogiJen at Yoga on the Roof.</p><br /><h4><strong>WHEN:</strong></h4><br /><p>April 27, 2024 | S<span class="OYPEnA text-decoration-none text-strikethrough-none">aturday | 3:00 pm to 6:00 pm</span></p><br /><h4><strong>WHERE:</strong></h4><br /><p>Yoga on the Roof, 20D Kim Tian Road</p><br /><h5><strong>Includes:</strong></h5><br /><ul><br /><li><b>3:00pm to 6:00pm:</b> 3 hours of flowing</li><br /><li><b>6:00pm to 8:00 pm</b>: Afterparty with small bites, refreshments, and drinks to connect</li><br /></ul><br /><h5><strong>Plus:</strong></h5><br /><p>Receive a certificate of completion of 3TRC</p><br /><p>Join us at Yoga on the Roof for an enriching experience where you’ll deepen your Inside Flow knowledge, connect with the community, and enjoy a transformative journey.</p><br /><p> </p><br /><p>Register on: https://yogaonroof.com/index.php/events/unlock-your-inside-flow-journey/</p>\n\n</BODY>\n</HTML>

LOCATION:Yoga on the Roof,  20D Kim Tian Road Singapore 169253 Singapore
END:VEVENT

END:VCALENDAR
