BEGIN:VCALENDAR
VERSION:2.0
PRODID:-//hacksw/handcal//NONSGML v1.0//EN
BEGIN:VEVENT
UID:69ec9a40ba4e405589d2a12c9314ae18
DTSTAMP:20260423T201944Z

DTSTART:20250131T000000
DTEND:20250223T235959
SUMMARY:50h Inside Flow Teacher Training in Frankfurt, Germany (50 TRC)
DESCRIPTION:Zeitraum:\n1. Wochenende: 31.01.– 02.02.2025 mit Ami Norton\n2. Wochenende: 07.02.– 09.02.2025 mit Hie Kim\n3. Wochenende: 21.02.–23.02.2025 mit Ami Norton\n \nAusbildungszeiten: Freitag bis Samstag von 10-17 Uhr am Sonntag von 10-16 Uhr

X-ALT-DESC;FMTTYPE=text/html:<!DOCTYPE HTML PUBLIC "-//W3C//DTD HTML 3.2//EN">\n<HTML>\n<HEAD>\n<META NAME="Generator" CONTENT="MS Exchange Server version 08.00.0681.000">\n<TITLE></TITLE>\n</HEAD>\n<BODY>\n<!-- Converted from text/rtf format -->\n\n<div><strong>Zeitraum:</strong><br />1. Wochenende: 31.01.– 02.02.2025 mit Ami Norton<br />2. Wochenende: 07.02.– 09.02.2025 mit Hie Kim<br />3. Wochenende: 21.02.–23.02.2025 mit Ami Norton</div><br /><div> </div><br /><div><strong>Ausbildungszeiten:</strong> Freitag bis Samstag von 10-17 Uhr am Sonntag von 10-16 Uhr</div>\n\n</BODY>\n</HTML>

LOCATION:Inside Yoga Studio Stephanstr. 3 Frankfurt Germany
END:VEVENT

END:VCALENDAR
