BEGIN:VCALENDAR
VERSION:2.0
PRODID:-//hacksw/handcal//NONSGML v1.0//EN
BEGIN:VEVENT
UID:a9d9774710f04957a8a2802fee4a8723
DTSTAMP:20260422T084908Z

DTSTART:20240928T163000
DTEND:20240929T163000
SUMMARY:Master Classes in Beautiful Lake Garda Italy 
DESCRIPTION: \nOne  75 minute Master Class each day at this fun Yoga Weekend in Lake Garda @simha_yoga_riva_del _garda\nFor more information DM www.thejoyogyoga.org / hello@thejoyofyoga.org or click here\nhttps://dashboard.mailerlite.com/forms/983400/125134711722869866/share\nHope to see &amp; flow with you there x

X-ALT-DESC;FMTTYPE=text/html:<!DOCTYPE HTML PUBLIC "-//W3C//DTD HTML 3.2//EN">\n<HTML>\n<HEAD>\n<META NAME="Generator" CONTENT="MS Exchange Server version 08.00.0681.000">\n<TITLE></TITLE>\n</HEAD>\n<BODY>\n<!-- Converted from text/rtf format -->\n\n<p> </p><br /><p class="p1"><span class="s1">One<span class="Apple-converted-space">  </span>75 minute Master Class each day at this fun Yoga Weekend in Lake Garda @simha_yoga_riva_del _garda</span></p><br /><p class="p1"><span class="s1">For more information DM <a href="http://www.thejoyogyoga.org">www.thejoyogyoga.org</a> / <a href="mailto:hello@thejoyofyoga.org">hello@thejoyofyoga.org</a> </span>or click here</p><br /><p class="p1"><span class="s1"><a href="https://dashboard.mailerlite.com/forms/983400/125134711722869866/share">https://dashboard.mailerlite.com/forms/983400/125134711722869866/share</a></span></p><br /><p class="p1"><span class="s1">Hope to see &amp; flow with you there x</span></p>\n\n</BODY>\n</HTML>

LOCATION:Hotel du lac du Parc Riva del Garda  Italy
END:VEVENT

END:VCALENDAR
