BEGIN:VCALENDAR
VERSION:2.0
PRODID:-//hacksw/handcal//NONSGML v1.0//EN
BEGIN:VEVENT
UID:73e10e6d8a52b1506173ce283e3ccf1b
DTSTAMP:20260422T071338Z

DTSTART:20241124T191000
DTEND:20241124T201000
SUMMARY:Регулярные класс Inside Flow в студии Flow - 2024-11-24
DESCRIPTION:Регулярный класс Inside Flow:\nВстреча и приветствие учеников\nразучивание Флоу с учениками (каждое занятие новый Флоу)\nисполнение флоу под основную композицию - 2 круга\nсторитейлинг к флоу\nисполнение флоу под основную композицию - 3 круга\nзавершение класса

X-ALT-DESC;FMTTYPE=text/html:<!DOCTYPE HTML PUBLIC "-//W3C//DTD HTML 3.2//EN">\n<HTML>\n<HEAD>\n<META NAME="Generator" CONTENT="MS Exchange Server version 08.00.0681.000">\n<TITLE></TITLE>\n</HEAD>\n<BODY>\n<!-- Converted from text/rtf format -->\n\n<p>Регулярный класс Inside Flow:</p><br /><p>Встреча и приветствие учеников</p><br /><p>разучивание Флоу с учениками (каждое занятие новый Флоу)</p><br /><p>исполнение флоу под основную композицию - 2 круга</p><br /><p>сторитейлинг к флоу</p><br /><p>исполнение флоу под основную композицию - 3 круга</p><br /><p>завершение класса</p>\n\n</BODY>\n</HTML>

LOCATION:Овражный тупик, дом 1 городской округ Домодедово д, Камкино Moskovskaya Oblast' Russia
END:VEVENT

END:VCALENDAR
