BEGIN:VCALENDAR
VERSION:2.0
PRODID:-//hacksw/handcal//NONSGML v1.0//EN
BEGIN:VEVENT
UID:6b00fc6c67582380a7ef9c70fae6da1e
DTSTAMP:20260422T071616Z

DTSTART:20241006T150000
DTEND:20241006T180000
SUMMARY:3h Inside Flow Master class with trenditskaya.tatiana (Russian)
DESCRIPTION:Master-class "Inside Flow. The story is in every moment"

X-ALT-DESC;FMTTYPE=text/html:<!DOCTYPE HTML PUBLIC "-//W3C//DTD HTML 3.2//EN">\n<HTML>\n<HEAD>\n<META NAME="Generator" CONTENT="MS Exchange Server version 08.00.0681.000">\n<TITLE></TITLE>\n</HEAD>\n<BODY>\n<!-- Converted from text/rtf format -->\n\n<p>Master-class "Inside Flow. The story is in every moment"</p>\n\n</BODY>\n</HTML>

LOCATION:ул. Первомайская 119 пгт Мостовской Krasnodarskiy Kray 352570 Russia
END:VEVENT

END:VCALENDAR
