BEGIN:VCALENDAR
VERSION:2.0
PRODID:-//hacksw/handcal//NONSGML v1.0//EN
BEGIN:VEVENT
UID:9d5f553f37f6058881253b4d6486baf4
DTSTAMP:20260422T073151Z

DTSTART:20241120T180000
DTEND:20241120T190000
SUMMARY:Wöchentlicher Inside Flow-Kurs mit Lisa (german/english) - 2024-11-20
DESCRIPTION:Eine Stunde im Fluss, es gibt kein Anfang und kein Ende. Eine fließende Abfolge von Asanas geleitet von dem Atem und moderner Musik. Eine Symbiose aus Tradition und Evolution. Zu moderner Musik wird in dieser Stunde eine Choreographie mit Asanas aufgebaut, in der jede Atembewegung zu einer Körperbewegung führt. Der Atem lenkt die Bewegungen und jede Bewegung wird mit der Ein- und Ausatmung synchronisiert. Für alle, die gerne ein dynamisches und kraftvolles Fließen erleben und ihre körperliche Kondition verbessern möchten.\n 

X-ALT-DESC;FMTTYPE=text/html:<!DOCTYPE HTML PUBLIC "-//W3C//DTD HTML 3.2//EN">\n<HTML>\n<HEAD>\n<META NAME="Generator" CONTENT="MS Exchange Server version 08.00.0681.000">\n<TITLE></TITLE>\n</HEAD>\n<BODY>\n<!-- Converted from text/rtf format -->\n\n<p>Eine Stunde im Fluss, es gibt kein Anfang und kein Ende. Eine fließende Abfolge von Asanas geleitet von dem Atem und moderner Musik. Eine Symbiose aus Tradition und Evolution. Zu moderner Musik wird in dieser Stunde eine Choreographie mit Asanas aufgebaut, in der jede Atembewegung zu einer Körperbewegung führt. Der Atem lenkt die Bewegungen und jede Bewegung wird mit der Ein- und Ausatmung synchronisiert. Für alle, die gerne ein dynamisches und kraftvolles Fließen erleben und ihre körperliche Kondition verbessern möchten.</p><br /><p> </p>\n\n</BODY>\n</HTML>

LOCATION:Hanauer Landstraße 8 Kahl am Main Bayern 63796 Germany
END:VEVENT

END:VCALENDAR
