BEGIN:VCALENDAR
VERSION:2.0
PRODID:-//hacksw/handcal//NONSGML v1.0//EN
BEGIN:VEVENT
UID:99d516b542dcfe79adee33fc9fe50751
DTSTAMP:20260423T112215Z

DTSTART:20250920T000000
DTEND:20251109T235959
SUMMARY:50h Inside Flow Online Grundausbildung (50 TRC) | online | 🇩🇪 Deutsch
DESCRIPTION:	\n- Lebenslanger Zugang zu den Kursinhalten\n- 3x Live Gruppen-Coachings\n- 2 ganze Live Online-Trainingstage\n- 6 Monate monatliche Coaching Calls\n- 6 Monate Inside Online Mitgliedschaft\n- Zugang zur exklusiven Community\n- Offizielles Zertifikat nach Bestehen der Prüfung\n- 30 Tage Geld-zurück-Garantie*\n\nMehr Infos und alles zur Anmeldung hier: https://insideyoga.org/academy/inside-flow-grundausbildung/ 

X-ALT-DESC;FMTTYPE=text/html:<!DOCTYPE HTML PUBLIC "-//W3C//DTD HTML 3.2//EN">\n<HTML>\n<HEAD>\n<META NAME="Generator" CONTENT="MS Exchange Server version 08.00.0681.000">\n<TITLE></TITLE>\n</HEAD>\n<BODY>\n<!-- Converted from text/rtf format -->\n\n	<br />- Lebenslanger Zugang zu den Kursinhalten<br />- 3x Live Gruppen-Coachings<br />- 2 ganze Live Online-Trainingstage<br />- 6 Monate monatliche Coaching Calls<br />- 6 Monate Inside Online Mitgliedschaft<br />- Zugang zur exklusiven Community<br />- Offizielles Zertifikat nach Bestehen der Prüfung<br />- 30 Tage Geld-zurück-Garantie*<br /><br />Mehr Infos und alles zur Anmeldung hier: https://insideyoga.org/academy/inside-flow-grundausbildung/ \n\n</BODY>\n</HTML>

LOCATION:Germany
END:VEVENT

END:VCALENDAR
