BEGIN:VCALENDAR
VERSION:2.0
PRODID:-//hacksw/handcal//NONSGML v1.0//EN
BEGIN:VEVENT
UID:78ed2bba73621fe2c5987e70413bfa4f
DTSTAMP:20260422T030433Z

DTSTART:20260212T100000
DTEND:20260215T160000
SUMMARY:🇬🇧🇩🇪 25h Inside Flow Level 2 – Deep Dive with Young Ho Kim (25 TRC) | Frankfurt, Germany
DESCRIPTION:Zum ersten Mal in Europa – exklusiv, intensiv, transformierend.Bist du bereit für den nächsten Schritt auf deiner Inside Flow Reise? Inside Flow Level 2 bringt dich dorthin – tiefer, präziser und mit einer neuen Dimension an Ausdruck, Energie und didaktischem Feingefühl.\n\nYoung Ho Kim unterrichtet persönlich zum ersten Mal diese Level 2 Ausbildung in Europa. Erlebe 4 intensive Tage, in denen sich Technik, Kreativität und Emotion zu einer einzigartigen Lernerfahrung verbinden.\n\nVoraussetzung und für wen ist diese Fortbildung?\nDiese Ausbildung richtet sich ausschließlich an zertifizierte Inside Flow Lehrer:innen, die ihre Skills verfeinern, professionalisieren und weiterentwickeln möchten.\n\nWas dich erwartet:\n\n- Magische Energie im Kurs kreierenLerne, wie du mit gezielten Aufbauphasen, emotionalem Timing und musikalischer Gestaltung eine Atmosphäre erschaffst, die deine Teilnehmer:innen berührt – von der ersten Minute bis zur letzten Pose.\n- Neuste Build-Up-Techniken & Reverse EngineeringEntdecke innovative Wege, komplexe Flows aufzubauen – rückwärts gedacht, logisch zerlegt und intuitiv vermittelt. Lerne, wie du von der Peak-Position zurück zur Basis gehst, um methodisch perfekte Übergänge zu gestalten.\n- Inside Flow Lab – Systematik trifft KreativitätWie entsteht ein guter Flow? Welche Strukturen tragen Emotion, Musik und Bewegung gemeinsam? In diesem praxisnahen Teil entwickelst du systematisch eigene Inside Flows und lernst, sie dramaturgisch auf den Punkt zu bringen.\n- Catchy Build-Up PlaylistsMusik ist mehr als ein Hintergrund – sie ist der Pulsschlag deines Flows. Erfahre, wie du gezielt Songs auswählst, platzierst und einsetzt, um maximale emotionale Wirkung zu erzielen.\n- Didaktische Finesse & FührungskompetenzVertiefe deine Fähigkeit, Gruppen mit Klarheit, Empathie und Präsenz durch einen Flow zu leiten – selbst durch herausfordernde Sequenzen. Erfahre, wie du dein Teaching auf das nächste Level hebst – ohne die Verbindung zu verlieren.\nKosten\n\nEarly Bird Tarif bis zum 31.10.2025: 475 € \nab 01.11.2025: 545 €

X-ALT-DESC;FMTTYPE=text/html:<!DOCTYPE HTML PUBLIC "-//W3C//DTD HTML 3.2//EN">\n<HTML>\n<HEAD>\n<META NAME="Generator" CONTENT="MS Exchange Server version 08.00.0681.000">\n<TITLE></TITLE>\n</HEAD>\n<BODY>\n<!-- Converted from text/rtf format -->\n\nZum ersten Mal in Europa – exklusiv, intensiv, transformierend.Bist du bereit für den nächsten Schritt auf deiner Inside Flow Reise? Inside Flow Level 2 bringt dich dorthin – tiefer, präziser und mit einer neuen Dimension an Ausdruck, Energie und didaktischem Feingefühl.<br /><br />Young Ho Kim unterrichtet persönlich zum ersten Mal diese Level 2 Ausbildung in Europa. Erlebe 4 intensive Tage, in denen sich Technik, Kreativität und Emotion zu einer einzigartigen Lernerfahrung verbinden.<br /><br />Voraussetzung und für wen ist diese Fortbildung?<br />Diese Ausbildung richtet sich ausschließlich an zertifizierte Inside Flow Lehrer:innen, die ihre Skills verfeinern, professionalisieren und weiterentwickeln möchten.<br /><br />Was dich erwartet:<br /><br />- Magische Energie im Kurs kreierenLerne, wie du mit gezielten Aufbauphasen, emotionalem Timing und musikalischer Gestaltung eine Atmosphäre erschaffst, die deine Teilnehmer:innen berührt – von der ersten Minute bis zur letzten Pose.<br />- Neuste Build-Up-Techniken & Reverse EngineeringEntdecke innovative Wege, komplexe Flows aufzubauen – rückwärts gedacht, logisch zerlegt und intuitiv vermittelt. Lerne, wie du von der Peak-Position zurück zur Basis gehst, um methodisch perfekte Übergänge zu gestalten.<br />- Inside Flow Lab – Systematik trifft KreativitätWie entsteht ein guter Flow? Welche Strukturen tragen Emotion, Musik und Bewegung gemeinsam? In diesem praxisnahen Teil entwickelst du systematisch eigene Inside Flows und lernst, sie dramaturgisch auf den Punkt zu bringen.<br />- Catchy Build-Up PlaylistsMusik ist mehr als ein Hintergrund – sie ist der Pulsschlag deines Flows. Erfahre, wie du gezielt Songs auswählst, platzierst und einsetzt, um maximale emotionale Wirkung zu erzielen.<br />- Didaktische Finesse & FührungskompetenzVertiefe deine Fähigkeit, Gruppen mit Klarheit, Empathie und Präsenz durch einen Flow zu leiten – selbst durch herausfordernde Sequenzen. Erfahre, wie du dein Teaching auf das nächste Level hebst – ohne die Verbindung zu verlieren.<br />Kosten<br /><br />Early Bird Tarif bis zum 31.10.2025: 475 € <br />ab 01.11.2025: 545 €\n\n</BODY>\n</HTML>

LOCATION:Stephanstr. 3 Frankfurt Hessen Germany
END:VEVENT

END:VCALENDAR
