BEGIN:VCALENDAR
VERSION:2.0
PRODID:-//hacksw/handcal//NONSGML v1.0//EN
BEGIN:VEVENT
UID:1a86213e53cb5a6457f51635431bc4fb
DTSTAMP:20260422T043429Z

DTSTART:20251126T181500
DTEND:20251126T191500
SUMMARY:Inside Flow Class with Sherri Meyers (English) Daytona Beach, FL
DESCRIPTION:By popular demand, we will be adding a weekly Inside Flow class. This class is a popup but it will become part of our weekly lineup in January 2026.\n\nCome flow to the beat. We’ll build the sequence step by step, connecting every move to the rhythm and emotion of the main song.\nEach class is unique and every flow is officially approved by Inside Flow.\n\nWe will learn to continuously move through each posture as we connect to the music utilizing strength, rhythm, and flow. ✨\n\n1 Hour $25 

X-ALT-DESC;FMTTYPE=text/html:<!DOCTYPE HTML PUBLIC "-//W3C//DTD HTML 3.2//EN">\n<HTML>\n<HEAD>\n<META NAME="Generator" CONTENT="MS Exchange Server version 08.00.0681.000">\n<TITLE></TITLE>\n</HEAD>\n<BODY>\n<!-- Converted from text/rtf format -->\n\nBy popular demand, we will be adding a weekly Inside Flow class. This class is a popup but it will become part of our weekly lineup in January 2026.<br /><br />Come flow to the beat. We’ll build the sequence step by step, connecting every move to the rhythm and emotion of the main song.<br />Each class is unique and every flow is officially approved by Inside Flow.<br /><br />We will learn to continuously move through each posture as we connect to the music utilizing strength, rhythm, and flow. ✨<br /><br />1 Hour $25 \n\n</BODY>\n</HTML>

LOCATION:311 Seabreeze Blvd Daytona Beach Florida 32118 United States
END:VEVENT

END:VCALENDAR
