BEGIN:VCALENDAR
VERSION:2.0
PRODID:-//hacksw/handcal//NONSGML v1.0//EN
BEGIN:VEVENT
UID:abfcb17b749068fa80cc1ba7d351a0a3
DTSTAMP:20260422T054914Z

DTSTART:20251130T170000
DTEND:20251130T181500
SUMMARY:Inside Flow Master Class with Sherri Meyers (English) Daytona Beach, FL
DESCRIPTION:Each Inside Flow Master Class is unique. Inside Flow officially approves every flow.\n\nWe move with the music, building strength, rhythm, and connection through seamless transitions. Sherri will guide you with intelligent alignment and a purposeful buildup that leads into the main song where everything comes together in flow.  \n\nOpen to all levels.\n\nSunday, November 30th @ 5 PM\n75 Minutes Hour $25

X-ALT-DESC;FMTTYPE=text/html:<!DOCTYPE HTML PUBLIC "-//W3C//DTD HTML 3.2//EN">\n<HTML>\n<HEAD>\n<META NAME="Generator" CONTENT="MS Exchange Server version 08.00.0681.000">\n<TITLE></TITLE>\n</HEAD>\n<BODY>\n<!-- Converted from text/rtf format -->\n\nEach Inside Flow Master Class is unique. Inside Flow officially approves every flow.<br /><br />We move with the music, building strength, rhythm, and connection through seamless transitions. Sherri will guide you with intelligent alignment and a purposeful buildup that leads into the main song where everything comes together in flow.  <br /><br />Open to all levels.<br /><br />Sunday, November 30th @ 5 PM<br />75 Minutes Hour $25\n\n</BODY>\n</HTML>

LOCATION:311 Seabreeze Blvd Daytona Beach Florida 32118 United States
END:VEVENT

END:VCALENDAR
