BEGIN:VCALENDAR
VERSION:2.0
PRODID:-//hacksw/handcal//NONSGML v1.0//EN
BEGIN:VEVENT
UID:8aaa735bd5d076eff68c84c952833f4e
DTSTAMP:20260422T030305Z

DTSTART:20260116T080000
DTEND:20260118T180000
SUMMARY:3 days Level 1 Training Bekasi Indonesia 
DESCRIPTION:\nHYBRID 3-DAY INSIDE FLOW TEACHER TRAINING — LEVEL 1\n\nWith Martasya Yoga\nJanuary 16–18, 2026\nTera Move Studio – Level 2 Affiliate Studio, Bekasi (East Jakarta), Indonesia\nFormat: Offline + Online (Zoom)\n\nJoin our short, intensive Inside Flow Teacher Training Level 1 designed to elevate your teaching skills, creativity, and confidence—whether you’re training in person or online.\n\n⸻\n\nWHAT YOU WILL LEARN\n\n📅 Day 1 — Master the Art of Teaching\n\nImprove Your Teaching Skills\n	•	Understand how to build and break down an Inside Flow class using simple, approved methodology\n	•	Learn to create effective build-up music playlists\n	•	Develop storytelling skills to guide your class smoothly and meaningfully\n\n⸻\n\n📅 Day 2 — Create, Express & Transform\n\nBe Creative and Express Your Feelings Through Intelligent Transitions\n	•	Learn how to create your own Flow inspired by different music styles\n	•	Master smooth, intelligent transitions that enhance your choreography\n	•	Explore how to express your emotions through movement interpretation\n\n⸻\n\n📅 Day 3 — Inspire & Shine\n\nFun & Flow with Inside Flow Senior & Junior Gold Teachers\n	•	Experience powerful, inspiring Flows from certified Inside Flow Teachers\n	•	Final teaching exam to evaluate your readiness and confidence\n\n⸻\n\nREGISTRATION\n\n📱 WhatsApp: +62 817-0711717\n🌐 Website: www.martasyayoga.org\n\nSecure your spot and take your Inside Flow teaching journey to the next level! ✨🧘‍♀️🧘‍♂️

X-ALT-DESC;FMTTYPE=text/html:<!DOCTYPE HTML PUBLIC "-//W3C//DTD HTML 3.2//EN">\n<HTML>\n<HEAD>\n<META NAME="Generator" CONTENT="MS Exchange Server version 08.00.0681.000">\n<TITLE></TITLE>\n</HEAD>\n<BODY>\n<!-- Converted from text/rtf format -->\n\n<br />HYBRID 3-DAY INSIDE FLOW TEACHER TRAINING — LEVEL 1<br /><br />With Martasya Yoga<br />January 16–18, 2026<br />Tera Move Studio – Level 2 Affiliate Studio, Bekasi (East Jakarta), Indonesia<br />Format: Offline + Online (Zoom)<br /><br />Join our short, intensive Inside Flow Teacher Training Level 1 designed to elevate your teaching skills, creativity, and confidence—whether you’re training in person or online.<br /><br />⸻<br /><br />WHAT YOU WILL LEARN<br /><br />📅 Day 1 — Master the Art of Teaching<br /><br />Improve Your Teaching Skills<br />	•	Understand how to build and break down an Inside Flow class using simple, approved methodology<br />	•	Learn to create effective build-up music playlists<br />	•	Develop storytelling skills to guide your class smoothly and meaningfully<br /><br />⸻<br /><br />📅 Day 2 — Create, Express & Transform<br /><br />Be Creative and Express Your Feelings Through Intelligent Transitions<br />	•	Learn how to create your own Flow inspired by different music styles<br />	•	Master smooth, intelligent transitions that enhance your choreography<br />	•	Explore how to express your emotions through movement interpretation<br /><br />⸻<br /><br />📅 Day 3 — Inspire & Shine<br /><br />Fun & Flow with Inside Flow Senior & Junior Gold Teachers<br />	•	Experience powerful, inspiring Flows from certified Inside Flow Teachers<br />	•	Final teaching exam to evaluate your readiness and confidence<br /><br />⸻<br /><br />REGISTRATION<br /><br />📱 WhatsApp: +62 817-0711717<br />🌐 Website: www.martasyayoga.org<br /><br />Secure your spot and take your Inside Flow teaching journey to the next level! ✨🧘‍♀️🧘‍♂️\n\n</BODY>\n</HTML>

LOCATION:Tera Move Studio Bekasi  Jawa Barat (Djawa Barat) Indonesia
END:VEVENT

END:VCALENDAR
