BEGIN:VCALENDAR
VERSION:2.0
PRODID:-//hacksw/handcal//NONSGML v1.0//EN
BEGIN:VEVENT
UID:ac130e1706b3b8dbfba17acdd86c49cc
DTSTAMP:20260422T011905Z

DTSTART:20260611T160000
DTEND:20260614T203000
SUMMARY:FORMACIÓN DE 30 HRS  Profesorado Fundamentals Inside Flow (en Español)
DESCRIPTION:FORMACIÓN DE 30 HRS  Profesorado Fundamentals Inside Flow (en Español)\n11, 12, 13 y 14 de Junio 2026\nGuiado por Julia Meyer\nEn Lima, Peru\n\n¿Te encanta Inside Flow y quieres aprender a compartir esta práctica con tus alumnos de yoga?\n¡Esta es una excelente forma de invertir en tu crecimiento!\n\n¿Qué aprenderás?\n- Cómo conectar la respiración y el movimiento con el beat de la música\n- Teoría Musical y Enseñanza en Ritmo\n- Creación de Flows\n- Secuenciación – Estructura de Clase\n- Lista de Reproducción (playlists) y Narración\n\nDetalles \nHorario:\n11 y 12​ de Junio, de 4pm a 9pm\n13 y 14 de Junio, de 10:30am a 8:30pm\n\nLugar: \nMagdalena o Miraflores, local por confirmar\n​\nProfesora:\nJulia Meyer, Senior Teacher de Alemania\n\nIdioma:\nInglés con traducción a español\n\nCertificación\n30 TRC (créditos oficiales de Inside Flow)\nEsta certificación te permite registrarte para dictar Inside Flow

X-ALT-DESC;FMTTYPE=text/html:<!DOCTYPE HTML PUBLIC "-//W3C//DTD HTML 3.2//EN">\n<HTML>\n<HEAD>\n<META NAME="Generator" CONTENT="MS Exchange Server version 08.00.0681.000">\n<TITLE></TITLE>\n</HEAD>\n<BODY>\n<!-- Converted from text/rtf format -->\n\nFORMACIÓN DE 30 HRS  Profesorado Fundamentals Inside Flow (en Español)<br />11, 12, 13 y 14 de Junio 2026<br />Guiado por Julia Meyer<br />En Lima, Peru<br /><br />¿Te encanta Inside Flow y quieres aprender a compartir esta práctica con tus alumnos de yoga?<br />¡Esta es una excelente forma de invertir en tu crecimiento!<br /><br />¿Qué aprenderás?<br />- Cómo conectar la respiración y el movimiento con el beat de la música<br />- Teoría Musical y Enseñanza en Ritmo<br />- Creación de Flows<br />- Secuenciación – Estructura de Clase<br />- Lista de Reproducción (playlists) y Narración<br /><br />Detalles <br />Horario:<br />11 y 12​ de Junio, de 4pm a 9pm<br />13 y 14 de Junio, de 10:30am a 8:30pm<br /><br />Lugar: <br />Magdalena o Miraflores, local por confirmar<br />​<br />Profesora:<br />Julia Meyer, Senior Teacher de Alemania<br /><br />Idioma:<br />Inglés con traducción a español<br /><br />Certificación<br />30 TRC (créditos oficiales de Inside Flow)<br />Esta certificación te permite registrarte para dictar Inside Flow\n\n</BODY>\n</HTML>

LOCATION:Lima, Peru Lima Peru lima Lima 15071 Peru
END:VEVENT

END:VCALENDAR
