BEGIN:VCALENDAR
VERSION:2.0
PRODID:-//hacksw/handcal//NONSGML v1.0//EN
BEGIN:VEVENT
UID:0fd4b3259c127f0f613d25160d2482a5
DTSTAMP:20260419T170252Z

DTSTART:20260616T160000
DTEND:20260617T210000
SUMMARY:TALLER 10 HRS  Align to Flow  (en ESPAÑOL)
DESCRIPTION:TALLER 10 HRS  Align to Flow  \nEN ESPAÑOL| 16 y 17 de Junio 2026\nGuiado por Julia Meyer\n\n¿Quieres conocer los secretos para moverte fuerte y con gracia en tu mat?\n¡Entonces, este taller es exactamente lo que necesitas!\n\nDiseñado para todos aquellos que desean aprender a moverse con elegancia y confianza, en este taller obtendrás herramientas para mejorar tu práctica, ya sea que si practiques Inside Flow o Vinyasa yoga.\nEs la preparación perfecta tanto para el Profesorado Fundamentals de Inside Flow, así como para el Taller Advanced Teaching, ¡e imprescindible para todos los amantes del Inside Flow!\n\nEn este taller aprenderás\n- Cómo moverte con ligereza y facilidad a través de una activación del cuerpo más refinada.\n- Técnicas como el "Centrado" y "Cambio del peso" para hacer que transiciones entre posturas sean más precisas. \n- El uso inteligente del "Contra balance" para mejorar tu el equilibrio y tu fluidez en la práctica.\n- Cómo profundizar la conexión entre respiración, movimiento y música para entrar a un estado de flow más fluido y sin esfuerzo, y encarnar verdaderamente la energía la práctica. \n\nDetalles\nHorario:\nMartes 16 y miércoles 17 de Junio,​ de 4pm a 9pm\n\nLugar: \nMiraflores, local por confirmar\n​\nProfesora:\nJulia Meyer, Senior Teacher de Alemania\n\nIdioma:\nInglés con Traducción a español\n\nCertificación\n10 TRC

X-ALT-DESC;FMTTYPE=text/html:<!DOCTYPE HTML PUBLIC "-//W3C//DTD HTML 3.2//EN">\n<HTML>\n<HEAD>\n<META NAME="Generator" CONTENT="MS Exchange Server version 08.00.0681.000">\n<TITLE></TITLE>\n</HEAD>\n<BODY>\n<!-- Converted from text/rtf format -->\n\nTALLER 10 HRS  Align to Flow  <br />EN ESPAÑOL| 16 y 17 de Junio 2026<br />Guiado por Julia Meyer<br /><br />¿Quieres conocer los secretos para moverte fuerte y con gracia en tu mat?<br />¡Entonces, este taller es exactamente lo que necesitas!<br /><br />Diseñado para todos aquellos que desean aprender a moverse con elegancia y confianza, en este taller obtendrás herramientas para mejorar tu práctica, ya sea que si practiques Inside Flow o Vinyasa yoga.<br />Es la preparación perfecta tanto para el Profesorado Fundamentals de Inside Flow, así como para el Taller Advanced Teaching, ¡e imprescindible para todos los amantes del Inside Flow!<br /><br />En este taller aprenderás<br />- Cómo moverte con ligereza y facilidad a través de una activación del cuerpo más refinada.<br />- Técnicas como el "Centrado" y "Cambio del peso" para hacer que transiciones entre posturas sean más precisas. <br />- El uso inteligente del "Contra balance" para mejorar tu el equilibrio y tu fluidez en la práctica.<br />- Cómo profundizar la conexión entre respiración, movimiento y música para entrar a un estado de flow más fluido y sin esfuerzo, y encarnar verdaderamente la energía la práctica. <br /><br />Detalles<br />Horario:<br />Martes 16 y miércoles 17 de Junio,​ de 4pm a 9pm<br /><br />Lugar: <br />Miraflores, local por confirmar<br />​<br />Profesora:<br />Julia Meyer, Senior Teacher de Alemania<br /><br />Idioma:<br />Inglés con Traducción a español<br /><br />Certificación<br />10 TRC\n\n</BODY>\n</HTML>

LOCATION:Lima, Peru Lima Peru lima Lima 15071 Peru
END:VEVENT

END:VCALENDAR
