BEGIN:VCALENDAR
VERSION:2.0
PRODID:-//hacksw/handcal//NONSGML v1.0//EN
BEGIN:VEVENT
UID:8ad4c8207b479a029ec41cd8ff7da2c9
DTSTAMP:20260425T220548Z

DTSTART:20260524T143000
DTEND:20260524T143000
SUMMARY:Weekly Inside Flow Class with Serena (IG: SerenYque), Gold IF Teacher from Italy (English) - 2026-05-24
DESCRIPTION:60 min class in English.

X-ALT-DESC;FMTTYPE=text/html:<!DOCTYPE HTML PUBLIC "-//W3C//DTD HTML 3.2//EN">\n<HTML>\n<HEAD>\n<META NAME="Generator" CONTENT="MS Exchange Server version 08.00.0681.000">\n<TITLE></TITLE>\n</HEAD>\n<BODY>\n<!-- Converted from text/rtf format -->\n\n60 min class in English.\n\n</BODY>\n</HTML>

LOCATION:Lombardia Italy
END:VEVENT

END:VCALENDAR
