BEGIN:VCALENDAR
VERSION:2.0
PRODID:-//hacksw/handcal//NONSGML v1.0//EN
BEGIN:VEVENT
UID:480efa1aa35c5ae504803076148da509
DTSTAMP:20260425T214016Z

DTSTART:20260426T140000
DTEND:20260426T150000
SUMMARY:Inside Flow Online with Lauren Berghman
DESCRIPTION:Inside flow online class with replay\n\n

X-ALT-DESC;FMTTYPE=text/html:<!DOCTYPE HTML PUBLIC "-//W3C//DTD HTML 3.2//EN">\n<HTML>\n<HEAD>\n<META NAME="Generator" CONTENT="MS Exchange Server version 08.00.0681.000">\n<TITLE></TITLE>\n</HEAD>\n<BODY>\n<!-- Converted from text/rtf format -->\n\nInside flow online class with replay<br /><br />\n\n</BODY>\n</HTML>

LOCATION:United States
END:VEVENT

END:VCALENDAR
