BEGIN:VCALENDAR
VERSION:2.0
PRODID:-//hacksw/handcal//NONSGML v1.0//EN
BEGIN:VEVENT
UID:9b595c369cea2af0e7fc3951d7a464ab
DTSTAMP:20260420T170213Z

DTSTART:20211204T170000
DTEND:20211204T200000
SUMMARY:3h Inside Flow Masterclass with trenditskaya.tatiana (Russian)
DESCRIPTION:

X-ALT-DESC;FMTTYPE=text/html:<!DOCTYPE HTML PUBLIC "-//W3C//DTD HTML 3.2//EN">\n<HTML>\n<HEAD>\n<META NAME="Generator" CONTENT="MS Exchange Server version 08.00.0681.000">\n<TITLE></TITLE>\n</HEAD>\n<BODY>\n<!-- Converted from text/rtf format -->\n\n\n\n</BODY>\n</HTML>

LOCATION:70 letiya Oktyabrya 34/3 Krasnodar 350000 Russia
END:VEVENT

END:VCALENDAR
