BEGIN:VCALENDAR
VERSION:2.0
PRODID:-//hacksw/handcal//NONSGML v1.0//EN
BEGIN:VEVENT
UID:ac38811026c32f4bec54ea098a978c03
DTSTAMP:20260422T044243Z

DTSTART:20211219T100000
DTEND:20211219T140000
SUMMARY:4h Inside Flow with Verra_nabilanadia
DESCRIPTION:We're coming back\nWe remember, we rebuild\nWe come back together\n \nLet's go, flow together with us

X-ALT-DESC;FMTTYPE=text/html:<!DOCTYPE HTML PUBLIC "-//W3C//DTD HTML 3.2//EN">\n<HTML>\n<HEAD>\n<META NAME="Generator" CONTENT="MS Exchange Server version 08.00.0681.000">\n<TITLE></TITLE>\n</HEAD>\n<BODY>\n<!-- Converted from text/rtf format -->\n\n<p>We're coming back</p><br /><p>We remember, we rebuild</p><br /><p>We come back together</p><br /><p> </p><br /><p>Let's go, flow together with us</p>\n\n</BODY>\n</HTML>

LOCATION:Ballroom Hotel Pandanaran Jl. Pandanaran no 58 Semarang Jawa Tengah (Djawa Tengah) 50134 Indonesia
END:VEVENT

END:VCALENDAR
